BEGIN:VCALENDAR
VERSION:2.0
PRODID:-//En vie à Béziers - ECPv6.15.17.1//NONSGML v1.0//EN
CALSCALE:GREGORIAN
METHOD:PUBLISH
X-WR-CALNAME:En vie à Béziers
X-ORIGINAL-URL:https://www.envieabeziers.info
X-WR-CALDESC:Évènements pour En vie à Béziers
REFRESH-INTERVAL;VALUE=DURATION:PT1H
X-Robots-Tag:noindex
X-PUBLISHED-TTL:PT1H
BEGIN:VTIMEZONE
TZID:Europe/Paris
BEGIN:DAYLIGHT
TZOFFSETFROM:+0100
TZOFFSETTO:+0200
TZNAME:CEST
DTSTART:20250330T010000
END:DAYLIGHT
BEGIN:STANDARD
TZOFFSETFROM:+0200
TZOFFSETTO:+0100
TZNAME:CET
DTSTART:20251026T010000
END:STANDARD
BEGIN:DAYLIGHT
TZOFFSETFROM:+0100
TZOFFSETTO:+0200
TZNAME:CEST
DTSTART:20260329T010000
END:DAYLIGHT
BEGIN:STANDARD
TZOFFSETFROM:+0200
TZOFFSETTO:+0100
TZNAME:CET
DTSTART:20261025T010000
END:STANDARD
BEGIN:DAYLIGHT
TZOFFSETFROM:+0100
TZOFFSETTO:+0200
TZNAME:CEST
DTSTART:20270328T010000
END:DAYLIGHT
BEGIN:STANDARD
TZOFFSETFROM:+0200
TZOFFSETTO:+0100
TZNAME:CET
DTSTART:20271031T010000
END:STANDARD
END:VTIMEZONE
BEGIN:VEVENT
DTSTART;TZID=Europe/Paris:20260425T100000
DTEND;TZID=Europe/Paris:20260425T120000
DTSTAMP:20260425T125010
CREATED:20260418T143716Z
LAST-MODIFIED:20260418T143716Z
UID:19593-1777111200-1777118400@www.envieabeziers.info
SUMMARY:Atelier d’Écriture Créative / Béziers
DESCRIPTION:Samedi 25 avril\, de 10h à 12h au Korrigan à Béziers (rue Paul Riquet quartier des halles) : Atelier d’Écriture Créative avec Sylvie Marletta  \nSylvie Marletta propose d’investir le Korrigan pour un moment de convivialité\, de partage et d’émulation collective à travers cet atelier d’écriture créative. L’occasion de s’amuser avec les mots\, l’imaginaire et la contemplation. Elle est diplômée animatrice d’ateliers d’écriture à l’Université Paul Valéry-Montpellier. Elle propose ses ateliers dans de nombreux lieux\, tel que le Musée d’art contemporain de Serignan (MRAC)\, Les Ostals\, la Mouche\, etc.. \n\n\nParticipation : 20 euros – Réservation : 06.11.30.76.52 – L’atelier est ouvert à tous\, même à ceux qui ne pratiquent jamais l’écriture.
URL:https://www.envieabeziers.info/event/atelier-decriture-creative-beziers/
LOCATION:Le Korrigan
CATEGORIES:Agenda culturel,Ateliers,écriture
ATTACH;FMTTYPE=image/png:https://www.envieabeziers.info/wp-content/uploads/2026/04/Capture-decran-2026-04-18-a-16.31.38.png
END:VEVENT
END:VCALENDAR