BEGIN:VCALENDAR
VERSION:2.0
PRODID:-//En vie à Béziers - ECPv6.15.17.1//NONSGML v1.0//EN
CALSCALE:GREGORIAN
METHOD:PUBLISH
X-WR-CALNAME:En vie à Béziers
X-ORIGINAL-URL:https://www.envieabeziers.info
X-WR-CALDESC:Évènements pour En vie à Béziers
REFRESH-INTERVAL;VALUE=DURATION:PT1H
X-Robots-Tag:noindex
X-PUBLISHED-TTL:PT1H
BEGIN:VTIMEZONE
TZID:Europe/Paris
BEGIN:DAYLIGHT
TZOFFSETFROM:+0100
TZOFFSETTO:+0200
TZNAME:CEST
DTSTART:20250330T010000
END:DAYLIGHT
BEGIN:STANDARD
TZOFFSETFROM:+0200
TZOFFSETTO:+0100
TZNAME:CET
DTSTART:20251026T010000
END:STANDARD
BEGIN:DAYLIGHT
TZOFFSETFROM:+0100
TZOFFSETTO:+0200
TZNAME:CEST
DTSTART:20260329T010000
END:DAYLIGHT
BEGIN:STANDARD
TZOFFSETFROM:+0200
TZOFFSETTO:+0100
TZNAME:CET
DTSTART:20261025T010000
END:STANDARD
BEGIN:DAYLIGHT
TZOFFSETFROM:+0100
TZOFFSETTO:+0200
TZNAME:CEST
DTSTART:20270328T010000
END:DAYLIGHT
BEGIN:STANDARD
TZOFFSETFROM:+0200
TZOFFSETTO:+0100
TZNAME:CET
DTSTART:20271031T010000
END:STANDARD
END:VTIMEZONE
BEGIN:VEVENT
DTSTART;TZID=Europe/Paris:20260314T093000
DTEND;TZID=Europe/Paris:20260425T180000
DTSTAMP:20260421T163607
CREATED:20260306T154313Z
LAST-MODIFIED:20260306T154313Z
UID:18545-1773480600-1777140000@www.envieabeziers.info
SUMMARY:Exposition Carita Savolainen / Port la Nouvelle
DESCRIPTION:Le vendredi 13 mars à partir de 17h30 Espace arts et rencontres Roger-Broncy – rue des anciens chantiers (ou accès Quai du Port) à Port La Nouvelle : ouverture de l’exposition Hematomia Paysage blessé de Carita Savolainen.\nCarita vit et a son atelier à Roquebrun. Artiste contemporaine finlandaise reconnue pour son travail délicat et profondément sensible autour du paysage et de la perception. Elle participe régulièrement à des expositions en Europe et ailleurs (France\, Finlande\, Belgique\, Chine\, Mexique\, Japon …).\nSes œuvres font partie de plusieurs collections publiques et privées en France et à l’étranger.\n\nEntrée gratuite – Exposition visible jusqu’au 25 avril : Mardi\, mercredi\, vendredi et samedi : 9h30-12h30 ; 14h-18h.\n\nMerci de bien vouloir confirmer votre présence au 04 68 40 43 13 65 pour le 13 mars jour du vernissage.
URL:https://www.envieabeziers.info/event/exposition-carita-savolainen-port-la-nouvelle/
LOCATION:Espace arts et rencontres Roger-Broncy
CATEGORIES:Agenda culturel,Exposition
ATTACH;FMTTYPE=image/png:https://www.envieabeziers.info/wp-content/uploads/2026/03/Capture-decran-2026-03-06-a-16.30.11.png
END:VEVENT
END:VCALENDAR