BEGIN:VCALENDAR
VERSION:2.0
PRODID:-//En vie à Béziers - ECPv6.15.17.1//NONSGML v1.0//EN
CALSCALE:GREGORIAN
METHOD:PUBLISH
X-WR-CALNAME:En vie à Béziers
X-ORIGINAL-URL:https://www.envieabeziers.info
X-WR-CALDESC:Évènements pour En vie à Béziers
REFRESH-INTERVAL;VALUE=DURATION:PT1H
X-Robots-Tag:noindex
X-PUBLISHED-TTL:PT1H
BEGIN:VTIMEZONE
TZID:Europe/Paris
BEGIN:DAYLIGHT
TZOFFSETFROM:+0100
TZOFFSETTO:+0200
TZNAME:CEST
DTSTART:20250330T010000
END:DAYLIGHT
BEGIN:STANDARD
TZOFFSETFROM:+0200
TZOFFSETTO:+0100
TZNAME:CET
DTSTART:20251026T010000
END:STANDARD
BEGIN:DAYLIGHT
TZOFFSETFROM:+0100
TZOFFSETTO:+0200
TZNAME:CEST
DTSTART:20260329T010000
END:DAYLIGHT
BEGIN:STANDARD
TZOFFSETFROM:+0200
TZOFFSETTO:+0100
TZNAME:CET
DTSTART:20261025T010000
END:STANDARD
BEGIN:DAYLIGHT
TZOFFSETFROM:+0100
TZOFFSETTO:+0200
TZNAME:CEST
DTSTART:20270328T010000
END:DAYLIGHT
BEGIN:STANDARD
TZOFFSETFROM:+0200
TZOFFSETTO:+0100
TZNAME:CET
DTSTART:20271031T010000
END:STANDARD
END:VTIMEZONE
BEGIN:VEVENT
DTSTART;TZID=Europe/Paris:20260430T183000
DTEND;TZID=Europe/Paris:20260430T200000
DTSTAMP:20260424T001740
CREATED:20260418T140842Z
LAST-MODIFIED:20260418T140842Z
UID:19587-1777573800-1777579200@www.envieabeziers.info
SUMMARY:film MÊME QU’ON NAIT IMBATTABLES ! / Béziers
DESCRIPTION:JEUDI 30 AVRIL à 18H30\, à La Cosmopolithèque\, 1 place Garibaldi à Béziers (À l’occasion de la journée de la non-violence éducative)\, de Marion Cuerq et Elsa Molay projection du film MÊME QU’ON NAIT IMBATTABLES !\nCe film nous emmène à la rencontre de jeunes parents suédois — dans un pays où les violences éducatives ont été interdites dès 1979 — et nous invite\, à travers une nouvelle conception de l’enfant\, à reconsidérer nos pratiques éducatives.  Il ouvre un espace de réflexion sur notre posture d’adulte et sur les conditions nécessaires à une éducation véritablement respectueuse du développement de l’enfant.\n\n\n\n\nUn sujet primordial !\n\nLa projection sera suivie d’un temps d’échange ouvert à toutes et tous\, animé par Nina Palais.\n\n\nPrix libre (à partir de 3 euros minimum) – 04 67 49 36 70 contact@cosmopolitheque.fr
URL:https://www.envieabeziers.info/event/film-meme-quon-nait-imbattables-beziers/
LOCATION:La Cosmopolithèque
CATEGORIES:Agenda culturel,Cinéma
ATTACH;FMTTYPE=image/png:https://www.envieabeziers.info/wp-content/uploads/2026/04/Capture-decran-2026-04-18-a-16.02.40.png
END:VEVENT
END:VCALENDAR