BEGIN:VCALENDAR
VERSION:2.0
PRODID:-//En vie à Béziers - ECPv6.15.17.1//NONSGML v1.0//EN
CALSCALE:GREGORIAN
METHOD:PUBLISH
X-WR-CALNAME:En vie à Béziers
X-ORIGINAL-URL:https://www.envieabeziers.info
X-WR-CALDESC:Évènements pour En vie à Béziers
REFRESH-INTERVAL;VALUE=DURATION:PT1H
X-Robots-Tag:noindex
X-PUBLISHED-TTL:PT1H
BEGIN:VTIMEZONE
TZID:Europe/Paris
BEGIN:DAYLIGHT
TZOFFSETFROM:+0100
TZOFFSETTO:+0200
TZNAME:CEST
DTSTART:20240331T010000
END:DAYLIGHT
BEGIN:STANDARD
TZOFFSETFROM:+0200
TZOFFSETTO:+0100
TZNAME:CET
DTSTART:20241027T010000
END:STANDARD
BEGIN:DAYLIGHT
TZOFFSETFROM:+0100
TZOFFSETTO:+0200
TZNAME:CEST
DTSTART:20250330T010000
END:DAYLIGHT
BEGIN:STANDARD
TZOFFSETFROM:+0200
TZOFFSETTO:+0100
TZNAME:CET
DTSTART:20251026T010000
END:STANDARD
BEGIN:DAYLIGHT
TZOFFSETFROM:+0100
TZOFFSETTO:+0200
TZNAME:CEST
DTSTART:20260329T010000
END:DAYLIGHT
BEGIN:STANDARD
TZOFFSETFROM:+0200
TZOFFSETTO:+0100
TZNAME:CET
DTSTART:20261025T010000
END:STANDARD
END:VTIMEZONE
BEGIN:VEVENT
DTSTART;TZID=Europe/Paris:20250423T150000
DTEND;TZID=Europe/Paris:20250522T190000
DTSTAMP:20260419T153539
CREATED:20250419T144845Z
LAST-MODIFIED:20250419T144845Z
UID:10530-1745420400-1747940400@www.envieabeziers.info
SUMMARY:Griggio\, expo jusqu'au 22 mai / Bages d'Aude
DESCRIPTION:À Bages d’Aude\, l’Espace des Arts et des Lettres (derrière l’Espace Louis Daudé\, rue des Élysiques) accueille l’exposition Serge Griggio\, Au fil du trait autour de séries inédites de peintures\, sculptures et gravures sur bois.\nL’exposition sera visible jusqu’au 22 mai\, et différents moments seront proposés\, notamment de rencontre et d’échange avec l’artiste\, mais aussi des ateliers de gravure sur bois animés par Serge Griggio\, pour adultes et enfants.\nEntrée libre et gratuite\, du mercredi au dimanche de 15 à 19h. Plus d’infos ou visite sur RDV au 07 50 56 34 33
URL:https://www.envieabeziers.info/event/griggio-expo-jusquau-22-mai-bages-daude/
LOCATION:Espace des Arts et des Lettres\, BAGES D'AUDE
CATEGORIES:Agenda culturel,Exposition
ATTACH;FMTTYPE=image/png:https://www.envieabeziers.info/wp-content/uploads/2025/04/GRIGGIO.png
END:VEVENT
END:VCALENDAR