BEGIN:VCALENDAR
VERSION:2.0
PRODID:-//En vie à Béziers - ECPv6.15.17.1//NONSGML v1.0//EN
CALSCALE:GREGORIAN
METHOD:PUBLISH
X-WR-CALNAME:En vie à Béziers
X-ORIGINAL-URL:https://www.envieabeziers.info
X-WR-CALDESC:Évènements pour En vie à Béziers
REFRESH-INTERVAL;VALUE=DURATION:PT1H
X-Robots-Tag:noindex
X-PUBLISHED-TTL:PT1H
BEGIN:VTIMEZONE
TZID:Europe/Paris
BEGIN:DAYLIGHT
TZOFFSETFROM:+0100
TZOFFSETTO:+0200
TZNAME:CEST
DTSTART:20250330T010000
END:DAYLIGHT
BEGIN:STANDARD
TZOFFSETFROM:+0200
TZOFFSETTO:+0100
TZNAME:CET
DTSTART:20251026T010000
END:STANDARD
BEGIN:DAYLIGHT
TZOFFSETFROM:+0100
TZOFFSETTO:+0200
TZNAME:CEST
DTSTART:20260329T010000
END:DAYLIGHT
BEGIN:STANDARD
TZOFFSETFROM:+0200
TZOFFSETTO:+0100
TZNAME:CET
DTSTART:20261025T010000
END:STANDARD
BEGIN:DAYLIGHT
TZOFFSETFROM:+0100
TZOFFSETTO:+0200
TZNAME:CEST
DTSTART:20270328T010000
END:DAYLIGHT
BEGIN:STANDARD
TZOFFSETFROM:+0200
TZOFFSETTO:+0100
TZNAME:CET
DTSTART:20271031T010000
END:STANDARD
END:VTIMEZONE
BEGIN:VEVENT
DTSTART;TZID=Europe/Paris:20260425T183000
DTEND;TZID=Europe/Paris:20260425T193000
DTSTAMP:20260421T194419
CREATED:20260420T180409Z
LAST-MODIFIED:20260420T180409Z
UID:19665-1777141800-1777145400@www.envieabeziers.info
SUMMARY:le groupe End Of The Game\, concert / Bédarieux
DESCRIPTION:Samedi 25 avril à 18h30\, Château Baldy à Bédarieux (Salle Léo Ferré en cas d’intempéries)\, événement proposé dans le cadre des Micro-festivals La Villette / Grand Orb : concert du groupe End Of The Game (Beatbox) \nLe Beatbox c’est l’art de faire de la musique avec sa bouche. L’histoire du groupe End Of The Game commence en 2017 en région parisienne. K.I.M.\, Fayabraz\, Scouilla et Colaps\, beatboxers émérites et réputés mondialement\, décident de monter un groupe. Ils remporteront ensemble la plus prestigieuse des compétitions nationales : les Championnats de France de Human Beatbox. Ils intègrent à leur Beatbox une pointe d’humour et de burlesque avec un souci du détail omniprésent. Influencés par le Hip-Hop et l’univers de la Bass Music\, ils naviguent de la Funk à l’Afro-Trap\, en passant par le rock et bien d’autres genres musicaux. \nDurée 45 mn – Tout public – Gratuit\, sur réservation – MAJIC Château Baldy 1 avenue Abbé Tarroux Tél. 04 87 83 05 20\nContacter par e-mail
URL:https://www.envieabeziers.info/event/le-groupe-end-of-the-game-concert-bedarieux/
CATEGORIES:Agenda culturel,Concert
ATTACH;FMTTYPE=image/png:https://www.envieabeziers.info/wp-content/uploads/2026/04/Capture-decran-2026-04-20-a-20.02.31.png
END:VEVENT
END:VCALENDAR